{
 "currentVersion": 10.91,
 "cimVersion": "2.9.0",
 "serviceDescription": "",
 "mapName": "imageryLandCover2024",
 "description": "",
 "copyrightText": "",
 "supportsDynamicLayers": true,
 "layers": [
  {
   "id": 0,
   "name": "Annual_NLCD_LndCov_2024_CU_C1V1_fd488de4-3b5c-4950-baeb-3e1c9884fafc.tiff",
   "parentLayerId": -1,
   "defaultVisibility": true,
   "subLayerIds": null,
   "minScale": 0,
   "maxScale": 0,
   "type": "Raster Layer",
   "supportsDynamicLegends": true
  }
 ],
 "tables": [],
 "spatialReference": {
  "wkid": 2876,
  "latestWkid": 2876,
  "xyTolerance": 0.003280833333333333,
  "zTolerance": 0.001,
  "mTolerance": 0.001,
  "falseX": -118265500,
  "falseY": -95180100,
  "xyUnits": 3048.0060960121928,
  "falseZ": -100000,
  "zUnits": 10000,
  "falseM": -100000,
  "mUnits": 10000
 },
 "singleFusedMapCache": true,
 "tileInfo": {
  "rows": 256,
  "cols": 256,
  "dpi": 96,
  "format": "MIXED",
  "compressionQuality": 85,
  "origin": {
   "x": -118265500,
   "y": 147350900
  },
  "spatialReference": {
   "wkid": 2876,
   "latestWkid": 2876,
   "xyTolerance": 0.003280833333333333,
   "zTolerance": 0.001,
   "mTolerance": 0.001,
   "falseX": -118265500,
   "falseY": -95180100,
   "xyUnits": 3048.0060960121928,
   "falseZ": -100000,
   "zUnits": 10000,
   "falseM": -100000,
   "mUnits": 10000
  },
  "lods": [
   {
    "level": 0,
    "resolution": 937.5,
    "scale": 1080000
   },
   {
    "level": 1,
    "resolution": 711.8055555555555,
    "scale": 820000
   },
   {
    "level": 2,
    "resolution": 625,
    "scale": 720000
   },
   {
    "level": 3,
    "resolution": 555.5555555555555,
    "scale": 640000
   },
   {
    "level": 4,
    "resolution": 416.66666666666663,
    "scale": 480000
   },
   {
    "level": 5,
    "resolution": 208.33333333333331,
    "scale": 240000
   },
   {
    "level": 6,
    "resolution": 104.16666666666666,
    "scale": 120000
   },
   {
    "level": 7,
    "resolution": 62.5,
    "scale": 72000
   },
   {
    "level": 8,
    "resolution": 41.666666666666664,
    "scale": 48000
   },
   {
    "level": 9,
    "resolution": 20.833333333333332,
    "scale": 24000
   },
   {
    "level": 10,
    "resolution": 10.416666666666666,
    "scale": 12000
   },
   {
    "level": 11,
    "resolution": 6.25,
    "scale": 7200
   },
   {
    "level": 12,
    "resolution": 4.166666666666666,
    "scale": 4800
   },
   {
    "level": 13,
    "resolution": 2.083333333333333,
    "scale": 2400
   },
   {
    "level": 14,
    "resolution": 1.0416666666666665,
    "scale": 1200
   },
   {
    "level": 15,
    "resolution": 0.5208333333333333,
    "scale": 600
   }
  ]
 },
 "storageInfo": {
  "storageFormat": "esriMapCacheStorageModeCompactV2",
  "packetSize": 128
 },
 "initialExtent": {
  "xmin": 2581355.8304715776,
  "ymin": 1297899.7445503129,
  "xmax": 3353674.681022354,
  "ymax": 1653883.2845503138,
  "spatialReference": {
   "wkid": 2876,
   "latestWkid": 2876,
   "xyTolerance": 0.003280833333333333,
   "zTolerance": 0.001,
   "mTolerance": 0.001,
   "falseX": -118265500,
   "falseY": -95180100,
   "xyUnits": 3048.0060960121928,
   "falseZ": -100000,
   "zUnits": 10000,
   "falseM": -100000,
   "mUnits": 10000
  }
 },
 "fullExtent": {
  "xmin": 2787020.9384250217,
  "ymin": 1299514.162336735,
  "xmax": 3193454.892699122,
  "ymax": 1655620.2549399855,
  "spatialReference": {
   "wkid": 2876,
   "latestWkid": 2876,
   "xyTolerance": 0.003280833333333333,
   "zTolerance": 0.001,
   "mTolerance": 0.001,
   "falseX": -118265500,
   "falseY": -95180100,
   "xyUnits": 3048.0060960121928,
   "falseZ": -100000,
   "zUnits": 10000,
   "falseM": -100000,
   "mUnits": 10000
  }
 },
 "datesInUnknownTimezone": false,
 "minScale": 1080000,
 "maxScale": 600,
 "minLOD": 0,
 "maxLOD": 15,
 "units": "esriFeet",
 "supportedImageFormatTypes": "PNG32,PNG24,PNG,JPG,DIB,TIFF,EMF,PS,PDF,GIF,SVG,SVGZ,BMP",
 "documentInfo": {
  "Title": "Map",
  "Author": "",
  "Comments": "",
  "Subject": "",
  "Category": "",
  "AntialiasingMode": "Fast",
  "TextAntialiasingMode": "Force",
  "Version": "2.9.0",
  "Keywords": ""
 },
 "supportsQueryDomains": true,
 "capabilities": "Map,Query,Data",
 "supportedQueryFormats": "JSON, geoJSON, PBF",
 "exportTilesAllowed": false,
 "referenceScale": 0.0,
 "datumTransformations": [
  {
   "geoTransforms": [
    {
     "wkid": 1900,
     "latestWkid": 1900,
     "transformForward": false,
     "name": "NAD_1983_HARN_To_WGS_1984_2"
    }
   ]
  }
 ],
 "supportsDatumTransformation": true,
 "archivingInfo": {
  "supportsHistoricMoment": false
 },
 "supportsClipping": true,
 "supportsSpatialFilter": true,
 "supportsTimeRelation": true,
 "supportsQueryDataElements": true,
 "maxRecordCount": 2000,
 "maxImageHeight": 4096,
 "maxImageWidth": 4096,
 "supportedExtensions": ""
}
