{
 "currentVersion": 10.91,
 "serviceDescription": "",
 "mapName": "Layers",
 "description": "",
 "copyrightText": "",
 "supportsDynamicLayers": false,
 "layers": [
  {
   "id": 0,
   "name": "GIS.CountyLarimer",
   "parentLayerId": -1,
   "defaultVisibility": false,
   "subLayerIds": null,
   "minScale": 0,
   "maxScale": 0,
   "type": "Feature Layer",
   "geometryType": "esriGeometryPolygon"
  }
 ],
 "tables": [],
 "spatialReference": {
  "wkid": 2876,
  "latestWkid": 2876
 },
 "singleFusedMapCache": true,
 "tileInfo": {
  "rows": 256,
  "cols": 256,
  "dpi": 96,
  "format": "MIXED",
  "compressionQuality": 75,
  "origin": {
   "x": -118265500,
   "y": 147350900
  },
  "spatialReference": {
   "wkid": 2876,
   "latestWkid": 2876
  },
  "lods": [
   {
    "level": 0,
    "resolution": 937.5,
    "scale": 1080000
   },
   {
    "level": 1,
    "resolution": 711.8055555555555,
    "scale": 820000
   },
   {
    "level": 2,
    "resolution": 625,
    "scale": 720000
   },
   {
    "level": 3,
    "resolution": 555.5555555555555,
    "scale": 640000
   },
   {
    "level": 4,
    "resolution": 416.66666666666663,
    "scale": 480000
   },
   {
    "level": 5,
    "resolution": 208.33333333333331,
    "scale": 240000
   },
   {
    "level": 6,
    "resolution": 104.16666666666666,
    "scale": 120000
   },
   {
    "level": 7,
    "resolution": 62.5,
    "scale": 72000
   },
   {
    "level": 8,
    "resolution": 41.666666666666664,
    "scale": 48000
   },
   {
    "level": 9,
    "resolution": 20.833333333333332,
    "scale": 24000
   },
   {
    "level": 10,
    "resolution": 10.416666666666666,
    "scale": 12000
   },
   {
    "level": 11,
    "resolution": 6.25,
    "scale": 7200
   },
   {
    "level": 12,
    "resolution": 4.166666666666666,
    "scale": 4800
   },
   {
    "level": 13,
    "resolution": 2.083333333333333,
    "scale": 2400
   },
   {
    "level": 14,
    "resolution": 1.0416666666666665,
    "scale": 1200
   },
   {
    "level": 15,
    "resolution": 0.5208333333333333,
    "scale": 600
   }
  ]
 },
 "initialExtent": {
  "xmin": 2790560.6001898996,
  "ymin": 1397975.4772452917,
  "xmax": 3172049.9234302104,
  "ymax": 1650578.6153980903,
  "spatialReference": {
   "wkid": 2876,
   "latestWkid": 2876
  }
 },
 "fullExtent": {
  "xmin": 2807901.02397355,
  "ymin": 1336766.87565713,
  "xmax": 3159292.83299956,
  "ymax": 1612371.3369143,
  "spatialReference": {
   "wkid": 2876,
   "latestWkid": 2876
  }
 },
 "minScale": 1080000,
 "maxScale": 600,
 "units": "esriFeet",
 "supportedImageFormatTypes": "PNG32,PNG24,PNG,JPG,DIB,TIFF,EMF,PS,PDF,GIF,SVG,SVGZ,BMP",
 "documentInfo": {
  "Title": "",
  "Author": "",
  "Comments": "",
  "Subject": "",
  "Category": "",
  "AntialiasingMode": "None",
  "TextAntialiasingMode": "Force",
  "Keywords": ""
 },
 "capabilities": "Map,Query,Data",
 "supportedQueryFormats": "JSON, geoJSON",
 "exportTilesAllowed": false,
 "referenceScale": 0,
 "datumTransformations": [
  {
   "geoTransforms": [
    {
     "wkid": 108001,
     "latestWkid": 1241,
     "transformForward": true,
     "name": "NAD_1927_To_NAD_1983_NADCON"
    }
   ]
  },
  {
   "geoTransforms": [
    {
     "wkid": 108001,
     "latestWkid": 1241,
     "transformForward": false,
     "name": "NAD_1927_To_NAD_1983_NADCON"
    }
   ]
  }
 ],
 "supportsDatumTransformation": true,
 "maxRecordCount": 1000,
 "maxImageHeight": 4096,
 "maxImageWidth": 4096,
 "supportedExtensions": ""
}