{
 "currentVersion": 10.91,
 "serviceDescription": "",
 "mapName": "Layers",
 "description": "",
 "copyrightText": "",
 "supportsDynamicLayers": true,
 "layers": [
  {
   "id": 0,
   "name": "Street Names",
   "parentLayerId": -1,
   "defaultVisibility": true,
   "subLayerIds": null,
   "minScale": 0,
   "maxScale": 0,
   "type": "Feature Layer",
   "geometryType": "esriGeometryPolyline"
  },
  {
   "id": 1,
   "name": "Roads",
   "parentLayerId": -1,
   "defaultVisibility": true,
   "subLayerIds": null,
   "minScale": 4800,
   "maxScale": 0,
   "type": "Feature Layer",
   "geometryType": "esriGeometryPolyline"
  },
  {
   "id": 2,
   "name": "Forest Service Roads",
   "parentLayerId": -1,
   "defaultVisibility": true,
   "subLayerIds": null,
   "minScale": 4800,
   "maxScale": 0,
   "type": "Feature Layer",
   "geometryType": "esriGeometryPolyline"
  },
  {
   "id": 3,
   "name": "Rural Driveways",
   "parentLayerId": -1,
   "defaultVisibility": true,
   "subLayerIds": null,
   "minScale": 4800,
   "maxScale": 0,
   "type": "Feature Layer",
   "geometryType": "esriGeometryPolyline"
  },
  {
   "id": 4,
   "name": "Parcels",
   "parentLayerId": -1,
   "defaultVisibility": true,
   "subLayerIds": null,
   "minScale": 0,
   "maxScale": 0,
   "type": "Feature Layer",
   "geometryType": "esriGeometryPolygon"
  },
  {
   "id": 5,
   "name": "COLARI23-SID-AW-6INCH.sid",
   "parentLayerId": -1,
   "defaultVisibility": true,
   "subLayerIds": null,
   "minScale": 0,
   "maxScale": 0,
   "type": "Raster Layer"
  }
 ],
 "tables": [],
 "spatialReference": {
  "wkid": 2876,
  "latestWkid": 2876
 },
 "singleFusedMapCache": true,
 "tileInfo": {
  "rows": 256,
  "cols": 256,
  "dpi": 96,
  "format": "MIXED",
  "compressionQuality": 85,
  "origin": {
   "x": -118265500,
   "y": 147350900
  },
  "spatialReference": {
   "wkid": 2876,
   "latestWkid": 2876
  },
  "lods": [
   {
    "level": 0,
    "resolution": 937.5,
    "scale": 1080000
   },
   {
    "level": 1,
    "resolution": 711.8055555555555,
    "scale": 820000
   },
   {
    "level": 2,
    "resolution": 625,
    "scale": 720000
   },
   {
    "level": 3,
    "resolution": 555.5555555555555,
    "scale": 640000
   },
   {
    "level": 4,
    "resolution": 416.66666666666663,
    "scale": 480000
   },
   {
    "level": 5,
    "resolution": 208.33333333333331,
    "scale": 240000
   },
   {
    "level": 6,
    "resolution": 104.16666666666666,
    "scale": 120000
   },
   {
    "level": 7,
    "resolution": 62.5,
    "scale": 72000
   },
   {
    "level": 8,
    "resolution": 41.666666666666664,
    "scale": 48000
   },
   {
    "level": 9,
    "resolution": 20.833333333333332,
    "scale": 24000
   },
   {
    "level": 10,
    "resolution": 10.416666666666666,
    "scale": 12000
   },
   {
    "level": 11,
    "resolution": 6.25,
    "scale": 7200
   },
   {
    "level": 12,
    "resolution": 4.166666666666666,
    "scale": 4800
   },
   {
    "level": 13,
    "resolution": 2.083333333333333,
    "scale": 2400
   },
   {
    "level": 14,
    "resolution": 1.0416666666666665,
    "scale": 1200
   },
   {
    "level": 15,
    "resolution": 0.5208333333333333,
    "scale": 600
   }
  ]
 },
 "initialExtent": {
  "xmin": 3052521.297971786,
  "ymin": 1412223.5606064228,
  "xmax": 3059635.881305118,
  "ymax": 1413473.5606064228,
  "spatialReference": {
   "wkid": 2876,
   "latestWkid": 2876
  }
 },
 "fullExtent": {
  "xmin": 2632032.54270598,
  "ymin": 1289755.56580855,
  "xmax": 3464384.1925403895,
  "ymax": 1628439.0191133576,
  "spatialReference": {
   "wkid": 2876,
   "latestWkid": 2876
  }
 },
 "minScale": 1080000,
 "maxScale": 600,
 "minLOD": 0,
 "maxLOD": 15,
 "units": "esriFeet",
 "supportedImageFormatTypes": "PNG32,PNG24,PNG,JPG,DIB,TIFF,EMF,PS,PDF,GIF,SVG,SVGZ,BMP",
 "documentInfo": {
  "Title": "",
  "Author": "",
  "Comments": "",
  "Subject": "",
  "Category": "",
  "AntialiasingMode": "None",
  "TextAntialiasingMode": "Force",
  "Keywords": ""
 },
 "capabilities": "Map,Query,Data",
 "supportedQueryFormats": "JSON, geoJSON",
 "exportTilesAllowed": true,
 "maxExportTilesCount": 10000000,
 "referenceScale": 0,
 "supportsDatumTransformation": true,
 "maxRecordCount": 1000,
 "maxImageHeight": 4096,
 "maxImageWidth": 4096,
 "supportedExtensions": ""
}
